BEGIN:VCALENDAR
VERSION:2.0
PRODID:-//Eagle Hills Church - ECPv6.2.3.2//NONSGML v1.0//EN
CALSCALE:GREGORIAN
METHOD:PUBLISH
X-ORIGINAL-URL:http://eagleumc.com
X-WR-CALDESC:Events for Eagle Hills Church
REFRESH-INTERVAL;VALUE=DURATION:PT1H
X-Robots-Tag:noindex
X-PUBLISHED-TTL:PT1H
BEGIN:VTIMEZONE
TZID:America/Boise
BEGIN:DAYLIGHT
TZOFFSETFROM:-0700
TZOFFSETTO:-0600
TZNAME:MDT
DTSTART:20210314T090000
END:DAYLIGHT
BEGIN:STANDARD
TZOFFSETFROM:-0600
TZOFFSETTO:-0700
TZNAME:MST
DTSTART:20211107T080000
END:STANDARD
END:VTIMEZONE
BEGIN:VEVENT
DTSTART;TZID=America/Boise:20210131T120000
DTEND;TZID=America/Boise:20210131T150000
DTSTAMP:20260423T091743
CREATED:20210115T224332Z
LAST-MODIFIED:20210115T224332Z
UID:9227-1612094400-1612105200@eagleumc.com
SUMMARY:Car Rally
DESCRIPTION:All families with children at home are invited to participate in a car rally on Sunday\, January 31. We will be meeting in the Fellowship Hall at noon. Our version of a car rally works like this. Your family unit will be given a set of clues and directions to follow (they won’t be easy\, but they won’t be too hard either).  Along the way you will have questions to answer. You will end up at a surprise destination. The group that finishes with the best time and mileage and with the most questions answered wins. Lunch will be provided\, before we go. Social distancing and other safety protocols will be followed.
URL:http://eagleumc.com/event/car-rally/
ATTACH;FMTTYPE=image/jpeg:http://eagleumc.com/wp-content/uploads/2021/01/Car-Rally.jpg
END:VEVENT
END:VCALENDAR