BEGIN:VCALENDAR
VERSION:2.0
PRODID:-//Eagle Hills Church - ECPv6.2.3.2//NONSGML v1.0//EN
CALSCALE:GREGORIAN
METHOD:PUBLISH
X-ORIGINAL-URL:http://eagleumc.com
X-WR-CALDESC:Events for Eagle Hills Church
REFRESH-INTERVAL;VALUE=DURATION:PT1H
X-Robots-Tag:noindex
X-PUBLISHED-TTL:PT1H
BEGIN:VTIMEZONE
TZID:America/Boise
BEGIN:DAYLIGHT
TZOFFSETFROM:-0700
TZOFFSETTO:-0600
TZNAME:MDT
DTSTART:20210314T090000
END:DAYLIGHT
BEGIN:STANDARD
TZOFFSETFROM:-0600
TZOFFSETTO:-0700
TZNAME:MST
DTSTART:20211107T080000
END:STANDARD
END:VTIMEZONE
BEGIN:VEVENT
DTSTART;TZID=America/Boise:20211101T080000
DTEND;TZID=America/Boise:20211201T170000
DTSTAMP:20260423T203554
CREATED:20211111T190751Z
LAST-MODIFIED:20211111T191027Z
UID:9611-1635753600-1638378000@eagleumc.com
SUMMARY:Capital Campaign
DESCRIPTION:Capital Campaign Video
URL:http://eagleumc.com/event/capital-campaign/
ATTACH;FMTTYPE=image/jpeg:http://eagleumc.com/wp-content/uploads/2021/10/futureandpast.jpg
END:VEVENT
END:VCALENDAR