BEGIN:VCALENDAR
VERSION:2.0
PRODID:-//Eagle Hills Church - ECPv6.2.3.2//NONSGML v1.0//EN
CALSCALE:GREGORIAN
METHOD:PUBLISH
X-WR-CALNAME:Eagle Hills Church
X-ORIGINAL-URL:http://eagleumc.com
X-WR-CALDESC:Events for Eagle Hills Church
REFRESH-INTERVAL;VALUE=DURATION:PT1H
X-Robots-Tag:noindex
X-PUBLISHED-TTL:PT1H
BEGIN:VTIMEZONE
TZID:America/Boise
BEGIN:DAYLIGHT
TZOFFSETFROM:-0700
TZOFFSETTO:-0600
TZNAME:MDT
DTSTART:20210314T090000
END:DAYLIGHT
BEGIN:STANDARD
TZOFFSETFROM:-0600
TZOFFSETTO:-0700
TZNAME:MST
DTSTART:20211107T080000
END:STANDARD
END:VTIMEZONE
BEGIN:VEVENT
DTSTART;TZID=America/Boise:20210307T123000
DTEND;TZID=America/Boise:20210307T140000
DTSTAMP:20260423T105131
CREATED:20210304T220626Z
LAST-MODIFIED:20210312T215820Z
UID:9289-1615120200-1615125600@eagleumc.com
SUMMARY:Sledding!
DESCRIPTION:Saturday\, March 13\, we will be meeting as a Youth Church Family to go sledding at Eagle Island State Park\, and have lunch. This is an event for all youth group kids and families\, as well as all Sunday School kids and families. We will be meeting at the park at 12:30pm near the tubing hill\, and I will be bringing pizzas and drinks. Cost is $20 for tubing (food is free)\, but scholarships are available\, just let me know. \n 
URL:http://eagleumc.com/event/sledding/
ATTACH;FMTTYPE=image/jpeg:http://eagleumc.com/wp-content/uploads/2021/03/tubing.jpg
END:VEVENT
END:VCALENDAR