BEGIN:VCALENDAR
VERSION:2.0
PRODID:-//Eagle Hills Church - ECPv6.2.3.2//NONSGML v1.0//EN
CALSCALE:GREGORIAN
METHOD:PUBLISH
X-WR-CALNAME:Eagle Hills Church
X-ORIGINAL-URL:http://eagleumc.com
X-WR-CALDESC:Events for Eagle Hills Church
REFRESH-INTERVAL;VALUE=DURATION:PT1H
X-Robots-Tag:noindex
X-PUBLISHED-TTL:PT1H
BEGIN:VTIMEZONE
TZID:America/Boise
BEGIN:DAYLIGHT
TZOFFSETFROM:-0700
TZOFFSETTO:-0600
TZNAME:MDT
DTSTART:20200308T090000
END:DAYLIGHT
BEGIN:STANDARD
TZOFFSETFROM:-0600
TZOFFSETTO:-0700
TZNAME:MST
DTSTART:20201101T080000
END:STANDARD
END:VTIMEZONE
BEGIN:VEVENT
DTSTART;TZID=America/Boise:20201031T100000
DTEND;TZID=America/Boise:20201031T110000
DTSTAMP:20260423T042904
CREATED:20201018T142617Z
LAST-MODIFIED:20201018T142919Z
UID:9119-1604138400-1604142000@eagleumc.com
SUMMARY:Halloween Egg Hunt
DESCRIPTION:Due to CoVid\, we couldn’t do our Easter Egg hunt last Spring\, nor can we do our Halloween Party and potluck this Fall. We did come up with a fun alternative that we hope our kids will enjoy. On Halloween Saturday\, October 31\, at 10:00 AM we will be gathering in our amphitheater for a Halloween Easter Egg Hunt!  This event will be open to the children of our church and their friends (we hope you will invite your friends)\, but we will not be advertising it to the general public.  It will be a fun time for kids to seek out eggs and learn about the resurrection of our Lord Jesus.  It will be a reduced hunt with all activities taking place outside.  We already have the candy\, but we do need some volunteers to stuff eggs for us.  If\nyou are interested in helping\, please contact the church office at (208) 939-0108.
URL:http://eagleumc.com/event/halloween-egg-hunt/
ATTACH;FMTTYPE=image/jpeg:http://eagleumc.com/wp-content/uploads/2020/10/halloween-egg-hunt-1.jpg
END:VEVENT
END:VCALENDAR